BEGIN:VCALENDAR
PRODID:brasil.gov.agenda
VERSION:1.0
BEGIN:VEVENT
DTSTART:20220830T103000Z
DTEND:20220830T110000Z
DCREATED:20220914T111918Z
UID:Compromisso-d862e467a707481eaba0d3657c508cd9
SEQUENCE:0
LAST-MODIFIED:20220914T111918Z
SUMMARY:Lab ROBOTBULLS (André - aluno)
LOCATION:Reitoria
PRIORITY:3
TRANSP:0
END:VEVENT
END:VCALENDAR
