BEGIN:VCALENDAR
PRODID:brasil.gov.agenda
VERSION:1.0
BEGIN:VEVENT
DTSTART:20220830T083000Z
DTEND:20220830T090000Z
DCREATED:20220914T111708Z
UID:Compromisso-bbd8cf6d57be4dc790edda093fbee8ba
SEQUENCE:0
LAST-MODIFIED:20220914T111708Z
SUMMARY:Chegada ao Inatel (boas vindas com Guilherme Marcondes e Rogério - Sala Jose Nogueira Leite)
LOCATION:Reitoria
PRIORITY:3
TRANSP:0
END:VEVENT
END:VCALENDAR
