BEGIN:VCALENDAR
PRODID:brasil.gov.agenda
VERSION:1.0
BEGIN:VEVENT
DTSTART:20220829T080000Z
DTEND:20220829T120000Z
DCREATED:20220914T111430Z
UID:Compromisso-ba04e4e36d844cd3b05c09df6bbeebf4
SEQUENCE:0
LAST-MODIFIED:20220914T111430Z
SUMMARY:Viagem à Santa Rita do Sapucaí - Visita ao INATEL
LOCATION:Reitoria
PRIORITY:3
TRANSP:0
END:VEVENT
END:VCALENDAR
