BEGIN:VCALENDAR
PRODID:brasil.gov.agenda
VERSION:1.0
BEGIN:VEVENT
DTSTART:20220818T140000Z
DTEND:20220818T160000Z
DCREATED:20220823T130632Z
UID:Compromisso-e1da8ecc8c4146398c966af30d95b49a
SEQUENCE:0
LAST-MODIFIED:20220823T130632Z
SUMMARY:Reunião Reitor\, PROAD e PROPLAN-
DESCRIPTION:Defasagem Km rodados em veículos oficiais no E-campus
LOCATION:Reitoria
PRIORITY:3
TRANSP:0
END:VEVENT
END:VCALENDAR
