BEGIN:VCALENDAR
PRODID:brasil.gov.agenda
VERSION:1.0
BEGIN:VEVENT
DTSTART:20220812T080000Z
DTEND:20220812T120000Z
DCREATED:20220823T125505Z
UID:Compromisso-7080fbd8f14c4558aeb3e0edf567035e
SEQUENCE:0
LAST-MODIFIED:20220823T125505Z
SUMMARY:Despachos Internos
LOCATION:Reitoria
PRIORITY:3
TRANSP:0
END:VEVENT
END:VCALENDAR
