BEGIN:VCALENDAR
PRODID:brasil.gov.agenda
VERSION:1.0
BEGIN:VEVENT
DTSTART:20220810T080000Z
DTEND:20220810T180000Z
DCREATED:20220811T113010Z
UID:Compromisso-7bc053c09ac64dedbcfba6b18a5d50c6
SEQUENCE:0
LAST-MODIFIED:20220811T113010Z
SUMMARY:Reuniões com a comunidade acadêmica no Campus de Janaúba - UFVJM
PRIORITY:3
TRANSP:0
END:VEVENT
END:VCALENDAR
