BEGIN:VCALENDAR
PRODID:brasil.gov.agenda
VERSION:1.0
BEGIN:VEVENT
DTSTART:20220808T080000Z
DTEND:20220808T100000Z
DCREATED:20220811T112226Z
UID:Compromisso-61624c8bf2f944e38d701907c7f0e79a
SEQUENCE:0
LAST-MODIFIED:20220811T112226Z
SUMMARY:Reunião Reitor\, Secretário de Planejamento e Gestão\, Sr. Milton Ávila\, a Diretora Administrativa \, Érica e a Gerente de Convênios\, Gleicielly.
DESCRIPTION:1- Formalização da cessão  de espaço para uso de arqui
 vo municipal\; e 2- Devolução de bens móveis cedidos para a prefeit
 ura.
PRIORITY:3
TRANSP:0
END:VEVENT
END:VCALENDAR
