BEGIN:VCALENDAR
PRODID:brasil.gov.agenda
VERSION:1.0
BEGIN:VEVENT
DTSTART:20220808T140000Z
DTEND:20220808T170000Z
DCREATED:20220811T112544Z
UID:Compromisso-1179384f33ed4243b6c05ecc3cd132d5
SEQUENCE:0
LAST-MODIFIED:20220811T112544Z
SUMMARY:Discussão de projetos integrados objetivando as melhorias do ensino com o impacto positivo da política de assistência estudantil.
PRIORITY:3
TRANSP:0
END:VEVENT
END:VCALENDAR
