BEGIN:VCALENDAR
PRODID:brasil.gov.agenda
VERSION:1.0
BEGIN:VEVENT
DTSTART:20220808T100000Z
DTEND:20220808T120000Z
DCREATED:20220811T112409Z
UID:Compromisso-7715921c51de4ccf92f8c80c50fc98d1
SEQUENCE:0
LAST-MODIFIED:20220811T112409Z
SUMMARY:Despachos Internos
PRIORITY:3
TRANSP:0
END:VEVENT
END:VCALENDAR
