BEGIN:VCALENDAR
PRODID:brasil.gov.agenda
VERSION:1.0
BEGIN:VEVENT
DTSTART:20220805T080000Z
DTEND:20220805T120000Z
DCREATED:20220810T192659Z
UID:Compromisso-1c3782f64c544a6db70a6e2d654a1ee5
SEQUENCE:0
LAST-MODIFIED:20220810T192659Z
SUMMARY:Despachos Internos
PRIORITY:3
TRANSP:0
END:VEVENT
END:VCALENDAR
