BEGIN:VCALENDAR
PRODID:brasil.gov.agenda
VERSION:1.0
BEGIN:VEVENT
DTSTART:20220805T140000Z
DTEND:20220805T180000Z
DCREATED:20220810T193135Z
UID:Compromisso-af1652912eab435eb45b3b63dc0e5f8f
SEQUENCE:0
LAST-MODIFIED:20220810T193135Z
SUMMARY:287ª reunião\, sendo a 130ª sessão  em caráter extraordinário do CONSU
PRIORITY:3
TRANSP:0
END:VEVENT
END:VCALENDAR
