BEGIN:VCALENDAR
PRODID:brasil.gov.agenda
VERSION:1.0
BEGIN:VEVENT
DTSTART:20220803T140000Z
DTEND:20220803T180000Z
DCREATED:20220804T120319Z
UID:Compromisso-2f626b616dea429289a43cccde63b98e
SEQUENCE:0
LAST-MODIFIED:20220804T120319Z
SUMMARY:Reunião Híbrida Pró-Reitores\, DGI e PI.
DESCRIPTION:Discussão Custo x Aluno\; e Indicadores Acadêmicos.
PRIORITY:3
TRANSP:0
END:VEVENT
END:VCALENDAR
