BEGIN:VCALENDAR
PRODID:brasil.gov.agenda
VERSION:1.0
BEGIN:VEVENT
DTSTART:20220803T080000Z
DTEND:20220803T120000Z
DCREATED:20220804T120145Z
UID:Compromisso-abb51a9b3fa84b779c7def0caca67dc3
SEQUENCE:0
LAST-MODIFIED:20220804T120438Z
SUMMARY:287ª reunião\, sendo a 130ª sessão em caráter extraordinário do CONSU.
PRIORITY:3
TRANSP:0
END:VEVENT
END:VCALENDAR
