BEGIN:VCALENDAR
PRODID:brasil.gov.agenda
VERSION:1.0
BEGIN:VEVENT
DTSTART:20220802T140000Z
DTEND:20220802T180000Z
DCREATED:20220804T120002Z
UID:Compromisso-3873fb31638d4ada8de66319618eff6a
SEQUENCE:0
LAST-MODIFIED:20220804T120002Z
SUMMARY:Reunião Reitor e Prograd
DESCRIPTION:Organização do Mapa de Salas para Entrega às Unidades A
 cadêmicas
PRIORITY:3
TRANSP:0
END:VEVENT
END:VCALENDAR
