BEGIN:VCALENDAR
PRODID:brasil.gov.agenda
VERSION:1.0
BEGIN:VEVENT
DTSTART:20220802T080000Z
DTEND:20220802T120000Z
DCREATED:20220804T115903Z
UID:Compromisso-1a92f538e80a46b1b33b267c33b22d4a
SEQUENCE:0
LAST-MODIFIED:20220804T115904Z
SUMMARY:Despachos Internos
PRIORITY:3
TRANSP:0
END:VEVENT
END:VCALENDAR
