BEGIN:VCALENDAR
PRODID:brasil.gov.agenda
VERSION:1.0
BEGIN:VEVENT
DTSTART:20220801T080000Z
DTEND:20220801T120000Z
DCREATED:20220804T115524Z
UID:Compromisso-49a9700a5ca44b8e95c22f4e16c2d9c3
SEQUENCE:0
LAST-MODIFIED:20220804T115524Z
SUMMARY:Despachos Internos
LOCATION:Reitoria
PRIORITY:3
TRANSP:0
END:VEVENT
END:VCALENDAR
