BEGIN:VCALENDAR
PRODID:brasil.gov.agenda
VERSION:1.0
BEGIN:VEVENT
DTSTART:20220801T140000Z
DTEND:20220801T180000Z
DCREATED:20220804T115650Z
UID:Compromisso-40229e7697a742b7baef1b11db3c17fd
SEQUENCE:0
LAST-MODIFIED:20220804T115650Z
SUMMARY:Despachos Internos
PRIORITY:3
TRANSP:0
END:VEVENT
END:VCALENDAR
