BEGIN:VCALENDAR
PRODID:brasil.gov.agenda
VERSION:1.0
BEGIN:VEVENT
DTSTART:20220728T140000Z
DTEND:20220728T180000Z
DCREATED:20220804T114818Z
UID:Compromisso-74eeb93e7c8d47598c21de9748e98381
SEQUENCE:0
LAST-MODIFIED:20220804T114818Z
SUMMARY:Reunião Reitor\, Pró-reitores\, Diretoria de Governança e Procuradores Institucionais.
DESCRIPTION:Distribuição do Orçamento e Indicadores Acadêmicos e D
 esempenho Institucional.
LOCATION:Reitoria
PRIORITY:3
TRANSP:0
END:VEVENT
END:VCALENDAR
