BEGIN:VCALENDAR
PRODID:brasil.gov.agenda
VERSION:1.0
BEGIN:VEVENT
DTSTART:20220727T140000Z
DTEND:20220727T180000Z
DCREATED:20220804T114411Z
UID:Compromisso-e82d09cfc11242ecb214126a69c6bb4d
SEQUENCE:0
LAST-MODIFIED:20220804T114411Z
SUMMARY:Despachos Internos
PRIORITY:3
TRANSP:0
END:VEVENT
END:VCALENDAR
