BEGIN:VCALENDAR
PRODID:brasil.gov.agenda
VERSION:1.0
BEGIN:VEVENT
DTSTART:20220725T100000Z
DTEND:20220725T120000Z
DCREATED:20220803T194040Z
UID:Compromisso-57eec34a46234163b5472ca80615eca5
SEQUENCE:0
LAST-MODIFIED:20220803T194040Z
SUMMARY:Reunião Reitor\, Vice-reitor\, PGF.
DESCRIPTION:Trabalho Remoto
PRIORITY:3
TRANSP:0
END:VEVENT
END:VCALENDAR
