BEGIN:VCALENDAR
PRODID:brasil.gov.agenda
VERSION:1.0
BEGIN:VEVENT
DTSTART:20220725T080000Z
DTEND:20220725T100000Z
DCREATED:20220803T193834Z
UID:Compromisso-b7b42e2c580a4b6b87a49e5d1cea8993
SEQUENCE:0
LAST-MODIFIED:20220803T193834Z
SUMMARY:Reunião Reitor\, PROGEP e Equipe DICOM.
DESCRIPTION:Exoneração e Afastamento
PRIORITY:3
TRANSP:0
END:VEVENT
END:VCALENDAR
