BEGIN:VCALENDAR
PRODID:brasil.gov.agenda
VERSION:1.0
BEGIN:VEVENT
DTSTART:20220725T140000Z
DTEND:20220725T180000Z
DCREATED:20220803T194218Z
UID:Compromisso-7dcf744f8fa840bc9bdb2f3ebbb06078
SEQUENCE:0
LAST-MODIFIED:20220803T194218Z
SUMMARY:185ª reunião sendo a 134ª sessão em caráter ordinário do CONSEPE
LOCATION:Reitoria
PRIORITY:3
TRANSP:0
END:VEVENT
END:VCALENDAR
