BEGIN:VCALENDAR
PRODID:brasil.gov.agenda
VERSION:1.0
BEGIN:VEVENT
DTSTART:20220722T140000Z
DTEND:20220722T180000Z
DCREATED:20220722T173526Z
UID:Compromisso-81a56baf7f0b42a59ceb32abc8a6c3db
SEQUENCE:0
LAST-MODIFIED:20220722T173526Z
SUMMARY:Despachos Internos
LOCATION:Reitoria
PRIORITY:3
TRANSP:0
END:VEVENT
END:VCALENDAR
