BEGIN:VCALENDAR
PRODID:brasil.gov.agenda
VERSION:1.0
BEGIN:VEVENT
DTSTART:20220721T080000Z
DTEND:20220721T120000Z
DCREATED:20220721T193838Z
UID:Compromisso-6c6da1a35ceb423d9942cf0011b85c92
SEQUENCE:0
LAST-MODIFIED:20220721T193838Z
SUMMARY:Despachos Internos
PRIORITY:3
TRANSP:0
END:VEVENT
END:VCALENDAR
