BEGIN:VCALENDAR
PRODID:brasil.gov.agenda
VERSION:1.0
BEGIN:VEVENT
DTSTART:20220719T080000Z
DTEND:20220719T120000Z
DCREATED:20220721T192912Z
UID:Compromisso-248e1bc3452b40f98df230d565dfbd2b
SEQUENCE:0
LAST-MODIFIED:20220721T192912Z
SUMMARY:Despachos Internos
PRIORITY:3
TRANSP:0
END:VEVENT
END:VCALENDAR
