BEGIN:VCALENDAR
PRODID:brasil.gov.agenda
VERSION:1.0
BEGIN:VEVENT
DTSTART:20220718T080000Z
DTEND:20220718T090000Z
DCREATED:20220721T192057Z
UID:Compromisso-a112a97b3d5240d59529951dc5945c4a
SEQUENCE:0
LAST-MODIFIED:20220721T192058Z
SUMMARY:Reunião Presencial Reitor\, FAMED\, PROPLAN e Danilo Bretas
DESCRIPTION:Proposta de criação do Centro Avançado de Diagnóstico 
 e Tratamento em Saúde\, no campus JK\, da UFVJM\;
PRIORITY:3
TRANSP:0
END:VEVENT
END:VCALENDAR
