BEGIN:VCALENDAR
PRODID:brasil.gov.agenda
VERSION:1.0
BEGIN:VEVENT
DTSTART:20220718T140000Z
DTEND:20220718T180000Z
DCREATED:20220721T192816Z
UID:Compromisso-22b1be2c275f439fb6df553acd22a689
SEQUENCE:0
LAST-MODIFIED:20220721T192816Z
SUMMARY:Reunião Conselho Universitário
DESCRIPTION:285ª reunião\, sendo a 129ª sessão em caráter extraor
 dinário do CONSU
PRIORITY:3
TRANSP:0
END:VEVENT
END:VCALENDAR
