BEGIN:VCALENDAR
PRODID:brasil.gov.agenda
VERSION:1.0
BEGIN:VEVENT
DTSTART:20220718T100000Z
DTEND:20220718T120000Z
DCREATED:20220721T192451Z
UID:Compromisso-ce9ccfd5747e415eb716458195b48def
SEQUENCE:0
LAST-MODIFIED:20220721T192451Z
SUMMARY:Despachos Internos
PRIORITY:3
TRANSP:0
END:VEVENT
END:VCALENDAR
