BEGIN:VCALENDAR
PRODID:brasil.gov.agenda
VERSION:1.0
BEGIN:VEVENT
DTSTART:20220713T080000Z
DTEND:20220713T120000Z
DCREATED:20220714T113714Z
UID:Compromisso-0c686b3b1dfc49a6937d284b388707a1
SEQUENCE:0
LAST-MODIFIED:20220714T113714Z
SUMMARY:37ª Reunião do Comitê de Governança\, Integridade\, Riscos e Controles Internos
DESCRIPTION:OFÍCIO Nº 103/2022/DTI - Assunto: Solicita reunião do C
 GIRC relacionado a ações de Governança Digital - Apreciar e encamin
 har para aprovação o documento Minuta de Portaria da Conta Instituci
 onal (0750370)\;  Apreciar e encaminhar para aprovação o documento M
 inuta de Portaria sobre serviços em nuvem (0750376)\; Apresentar para
  considerações Relatório Sintético da execução das ações do PD
 TI 2020-2022 atualmente em vigor.
LOCATION:Reitoria
PRIORITY:3
TRANSP:0
END:VEVENT
END:VCALENDAR
