BEGIN:VCALENDAR
PRODID:brasil.gov.agenda
VERSION:1.0
BEGIN:VEVENT
DTSTART:20220713T140000Z
DTEND:20220713T180000Z
DCREATED:20220714T113736Z
UID:Compromisso-8fa35a0c3ad84cf0adaa4af3245af5e4
SEQUENCE:0
LAST-MODIFIED:20220714T113736Z
SUMMARY:284.ª reunião\, sendo a 128.ª sessão  em caráter extraordinário do CONSU
LOCATION:Reitoria
PRIORITY:3
TRANSP:0
END:VEVENT
END:VCALENDAR
