BEGIN:VCALENDAR
PRODID:brasil.gov.agenda
VERSION:1.0
BEGIN:VEVENT
DTSTART:20220712T090000Z
DTEND:20220712T100000Z
DCREATED:20220712T140720Z
UID:Compromisso-0020da46fce2449fb34ad9ba474988a0
SEQUENCE:0
LAST-MODIFIED:20220712T140720Z
SUMMARY:Reunião Reitor\, SINDIFES e PROGEP
DESCRIPTION:Tratativas para celebração de termo de acordo para compe
 nsação de horas não trabalhadas dos servidores\, decorrentes da par
 alisação por exercício do direito de greve.
PRIORITY:3
TRANSP:0
END:VEVENT
END:VCALENDAR
