BEGIN:VCALENDAR
PRODID:brasil.gov.agenda
VERSION:1.0
BEGIN:VEVENT
DTSTART:20220712T080000Z
DTEND:20220712T090000Z
DCREATED:20220712T135632Z
UID:Compromisso-34f97a5efba44a2792a2968c408c1b82
SEQUENCE:0
LAST-MODIFIED:20220712T140250Z
SUMMARY:Reunião Reitor\, PROPLAN e DGI
DESCRIPTION:Apresentar Projetos de Governança
PRIORITY:3
TRANSP:0
END:VEVENT
END:VCALENDAR
