BEGIN:VCALENDAR
PRODID:brasil.gov.agenda
VERSION:1.0
BEGIN:VEVENT
DTSTART:20220712T100000Z
DTEND:20220713T120000Z
DCREATED:20220712T141209Z
UID:Compromisso-4c80f2dbd7a54d64938117af652de768
SEQUENCE:0
LAST-MODIFIED:20220712T141209Z
SUMMARY:Reunião Reitor\, PROACE\, PGF\, DCP e PROAD
DESCRIPTION:Transporte dos estudantes Campus I e Moradia\, Funcionamen
 to do RU e Alojamento.
PRIORITY:3
TRANSP:0
END:VEVENT
END:VCALENDAR
