BEGIN:VCALENDAR
PRODID:brasil.gov.agenda
VERSION:1.0
BEGIN:VEVENT
DTSTART:20220712T140000Z
DTEND:20220712T150000Z
DCREATED:20220712T141338Z
UID:Compromisso-c0ab44a5b4114f86bbb2d6f1164073d6
SEQUENCE:0
LAST-MODIFIED:20220712T141338Z
SUMMARY:Reunião Reitor\, FAMED\, FCBS\, FAMMUC\, ICET e Secretário de Saúde do Município de Janaúba
DESCRIPTION:Discussão do Projeto Integrado de Saúde\, de Iniciativa 
 da Prefeitura Municipal de Janaúba
PRIORITY:3
TRANSP:0
END:VEVENT
END:VCALENDAR
