BEGIN:VCALENDAR
PRODID:brasil.gov.agenda
VERSION:1.0
BEGIN:VEVENT
DTSTART:20220712T150000Z
DTEND:20220712T180000Z
DCREATED:20220712T141927Z
UID:Compromisso-c556bcc4b1e74476ba21bb1559ba329c
SEQUENCE:0
LAST-MODIFIED:20220712T141927Z
SUMMARY:Reunião PROAD\, DIRETORES DE CAMPUS e Wellington
DESCRIPTION:Transição das Diretorias Campus Fora de Sede
PRIORITY:3
TRANSP:0
END:VEVENT
END:VCALENDAR
