BEGIN:VCALENDAR
PRODID:brasil.gov.agenda
VERSION:1.0
BEGIN:VEVENT
DTSTART:20220711T100000Z
DTEND:20220711T000000Z
DCREATED:20220711T125223Z
UID:Compromisso-1dce443382224cb3a88e77d48f26b31a
SEQUENCE:0
LAST-MODIFIED:20220711T125223Z
SUMMARY:Reunião Prefeitura de Curvelo
DESCRIPTION:Proposta de Contrapartidas  da Prof.ª Curvelo objetivando
  práticas e projeto da Fazenda da Moura.
LOCATION:Reitoria
PRIORITY:3
TRANSP:0
END:VEVENT
END:VCALENDAR
