BEGIN:VCALENDAR
PRODID:brasil.gov.agenda
VERSION:1.0
BEGIN:VEVENT
DTSTART:20220711T080000Z
DTEND:20220711T000000Z
DCREATED:20220711T125153Z
UID:Compromisso-ee84e2ef1975480fa602edf4d1f48919
SEQUENCE:0
LAST-MODIFIED:20220711T125153Z
SUMMARY:Deslocamento Diamantina à Curvelo
LOCATION:Reitoria
PRIORITY:3
TRANSP:0
END:VEVENT
END:VCALENDAR
