BEGIN:VCALENDAR
PRODID:brasil.gov.agenda
VERSION:1.0
BEGIN:VEVENT
DTSTART:20220711T130000Z
DTEND:20220711T000000Z
DCREATED:20220711T125246Z
UID:Compromisso-bbce042d01364c4297ccddd621a7f644
SEQUENCE:0
LAST-MODIFIED:20220711T125246Z
SUMMARY:Deslocamento Curvelo x Diamantina
LOCATION:Reitoria
PRIORITY:3
TRANSP:0
END:VEVENT
END:VCALENDAR
