BEGIN:VCALENDAR
PRODID:brasil.gov.agenda
VERSION:1.0
BEGIN:VEVENT
DTSTART:20220708T080000Z
DTEND:20220708T000000Z
DCREATED:20220705T192425Z
UID:Compromisso-690fa0d2ef6644edbcfc9cb2964ea1d1
SEQUENCE:0
LAST-MODIFIED:20220705T192425Z
SUMMARY:Visita ao terreno do Taquara
LOCATION:Reitoria
PRIORITY:3
TRANSP:0
END:VEVENT
END:VCALENDAR
