BEGIN:VCALENDAR
PRODID:brasil.gov.agenda
VERSION:1.0
BEGIN:VEVENT
DTSTART:20220707T150000Z
DTEND:20220707T000000Z
DCREATED:20220705T192237Z
UID:Compromisso-55b3e959067f463eb64bb0fe1bd26059
SEQUENCE:0
LAST-MODIFIED:20220705T192237Z
SUMMARY:Equipe do Centro Multidisciplinar
LOCATION:Reitoria
PRIORITY:3
TRANSP:0
END:VEVENT
END:VCALENDAR
