BEGIN:VCALENDAR
PRODID:brasil.gov.agenda
VERSION:1.0
BEGIN:VEVENT
DTSTART:20220707T190000Z
DTEND:20220707T000000Z
DCREATED:20220705T192339Z
UID:Compromisso-10f4692868da4c45a09d0f8ffe4f5ddf
SEQUENCE:0
LAST-MODIFIED:20220705T192339Z
SUMMARY:Docentes da FAMMUC
LOCATION:Reitoria
PRIORITY:3
TRANSP:0
END:VEVENT
END:VCALENDAR
