BEGIN:VCALENDAR
PRODID:brasil.gov.agenda
VERSION:1.0
BEGIN:VEVENT
DTSTART:20220707T173000Z
DTEND:20220707T000000Z
DCREATED:20220705T192319Z
UID:Compromisso-8efe06017ba243539d9cc153a5060edb
SEQUENCE:0
LAST-MODIFIED:20220705T192319Z
SUMMARY:Docentes da FACSAE
LOCATION:Reitoria
PRIORITY:3
TRANSP:0
END:VEVENT
END:VCALENDAR
