BEGIN:VCALENDAR
PRODID:brasil.gov.agenda
VERSION:1.0
BEGIN:VEVENT
DTSTART:20220707T133000Z
DTEND:20220707T000000Z
DCREATED:20220705T192217Z
UID:Compromisso-e3223c01578647b6a37bcb09e36ea87d
SEQUENCE:0
LAST-MODIFIED:20220705T192217Z
SUMMARY:Direções e Coordenações Acadêmicas
LOCATION:Reitoria
PRIORITY:3
TRANSP:0
END:VEVENT
END:VCALENDAR
