BEGIN:VCALENDAR
PRODID:brasil.gov.agenda
VERSION:1.0
BEGIN:VEVENT
DTSTART:20220706T153000Z
DTEND:20220706T000000Z
DCREATED:20220705T192109Z
UID:Compromisso-3a4fbc6701b04398a36f552a664fc803
SEQUENCE:0
LAST-MODIFIED:20220705T192109Z
SUMMARY:Reunião com os servidores Técnicos Administrativos
LOCATION:Reitoria
PRIORITY:3
TRANSP:0
END:VEVENT
END:VCALENDAR
