BEGIN:VCALENDAR
PRODID:brasil.gov.agenda
VERSION:1.0
BEGIN:VEVENT
DTSTART:20220706T100000Z
DTEND:20220706T000000Z
DCREATED:20220705T192022Z
UID:Compromisso-be5b13bbe2034757bacd269d783362ed
SEQUENCE:0
LAST-MODIFIED:20220705T192022Z
SUMMARY:Reunião com os Discentes
LOCATION:Reitoria
PRIORITY:3
TRANSP:0
END:VEVENT
END:VCALENDAR
