BEGIN:VCALENDAR
PRODID:brasil.gov.agenda
VERSION:1.0
BEGIN:VEVENT
DTSTART:20220706T140000Z
DTEND:20220706T000000Z
DCREATED:20220705T192041Z
UID:Compromisso-56298f2357644ca19192066a442dc2a4
SEQUENCE:0
LAST-MODIFIED:20220705T192041Z
SUMMARY:Professores do Instituto de Ciência\, Engenharia e Tecnologia - ICET
LOCATION:Reitoria
PRIORITY:3
TRANSP:0
END:VEVENT
END:VCALENDAR
