BEGIN:VCALENDAR
PRODID:brasil.gov.agenda
VERSION:1.0
BEGIN:VEVENT
DTSTART:20220704T000000Z
DTEND:20220704T000000Z
DCREATED:20220705T191826Z
UID:Compromisso-4739c48057914bd088a9b4e1d5488019
SEQUENCE:0
LAST-MODIFIED:20220705T191826Z
SUMMARY:Deslocamento Diamantina Ã  JanaÃºba
DESCRIPTION:ReuniÃµes com todos os trÃªs segmentos da comunidade acadÃ
 ªmica do campus de JanaÃºba\, com os Diretores e os Coordenadores dos 
 Cursos.
LOCATION:Reitoria
PRIORITY:3
TRANSP:0
END:VEVENT
END:VCALENDAR
