BEGIN:VCALENDAR
PRODID:brasil.gov.agenda
VERSION:1.0
BEGIN:VEVENT
DTSTART:20220701T140000Z
DTEND:20220701T180000Z
DCREATED:20220705T175911Z
UID:Compromisso-51fe0018a32047e18cfb2c1cfae1ad26
SEQUENCE:0
LAST-MODIFIED:20220705T175911Z
SUMMARY:Programa Universidade nas Comunidades - Saúde Digital Móvel e Saúde Bucal Móvel
LOCATION:Reitoria
PRIORITY:3
TRANSP:0
END:VEVENT
END:VCALENDAR
