BEGIN:VCALENDAR
PRODID:brasil.gov.agenda
VERSION:1.0
BEGIN:VEVENT
DTSTART:20220701T080000Z
DTEND:20220701T120000Z
DCREATED:20220705T175848Z
UID:Compromisso-88ffdd05c7cc4738afc3cb6ce4483643
SEQUENCE:0
LAST-MODIFIED:20220705T175848Z
SUMMARY:Despachos Internos
LOCATION:Reitoria
PRIORITY:3
TRANSP:0
END:VEVENT
END:VCALENDAR
