BEGIN:VCALENDAR
PRODID:brasil.gov.agenda
VERSION:1.0
BEGIN:VEVENT
DTSTART:20220630T080000Z
DTEND:20220630T120000Z
DCREATED:20220705T174231Z
UID:Compromisso-956f193b5a69478fb345bd8dcec6bbec
SEQUENCE:0
LAST-MODIFIED:20220705T174955Z
SUMMARY:283.ª reunião\, sendo a 154ª sessão  em caráter extraordinário do CONSU
LOCATION:Reitoria
PRIORITY:3
TRANSP:0
END:VEVENT
END:VCALENDAR
